BEGIN:VCALENDAR
VERSION:2.0
PRODID:icalendar-ruby
CALSCALE:GREGORIAN
METHOD:PUBLISH
BEGIN:VEVENT
DTSTAMP:20260421T213125Z
UID:8-370217@ffmc.church
DTSTART:20261101T143000Z
DTEND:20261101T153000Z
CLASS:PUBLIC
CREATED:20260421T161507
DESCRIPTION:
LAST-MODIFIED:20260421T161507
LOCATION:Five Forks Methodist Church
SUMMARY:SUNDAY MORNING WORSHIP
URL;VALUE=URI:https://ffmc.church/events/sunday-morning-worship--8/2026-11-
 01
ATTACH;FILENAME=600DFD0A-BA1C-4A7C-B13C-AD9AD2B23353_1_201_a.jpeg;FMTTYPE=i
 mage/jpeg:https://dq5pwpg1q8ru0.cloudfront.net/2025/07/10/14/40/30/370e5c7
 7-aab5-4f91-ba02-b8995681b994/600DFD0A-BA1C-4A7C-B13C-AD9AD2B23353_1_201_a
 .jpeg
END:VEVENT
END:VCALENDAR
